BEGIN:VCALENDAR
VERSION:2.0
PRODID:www.dresden-science-calendar.de
METHOD:PUBLISH
CALSCALE:GREGORIAN
X-MICROSOFT-CALSCALE:GREGORIAN
X-WR-TIMEZONE:Europe/Berlin
BEGIN:VTIMEZONE
TZID:Europe/Berlin
X-LIC-LOCATION:Europe/Berlin
BEGIN:DAYLIGHT
TZNAME:CEST
TZOFFSETFROM:+0100
TZOFFSETTO:+0200
DTSTART:19810329T030000
RRULE:FREQ=YEARLY;INTERVAL=1;BYMONTH=3;BYDAY=-1SU
END:DAYLIGHT
BEGIN:STANDARD
TZNAME:CET
TZOFFSETFROM:+0200
TZOFFSETTO:+0100
DTSTART:19961027T030000
RRULE:FREQ=YEARLY;INTERVAL=1;BYMONTH=10;BYDAY=-1SU
END:STANDARD
END:VTIMEZONE
BEGIN:VEVENT
UID:DSC-9536
DTSTART;TZID=Europe/Berlin:20150718T120000
SEQUENCE:1437205878
TRANSP:OPAQUE
DTEND;TZID=Europe/Berlin:20150718T160000
URL:https://www.dresden-science-calendar.de/calendar/en/detail/9536
LOCATION:TUD CRTD\, Fetscherstraße 10501307 Dresden
SUMMARY:Chilvers: Cell mechanics - From methods to applications
CLASS:PUBLIC
DESCRIPTION:Speaker: Edwin Chilvers\, Cambridge\, Cedric Cattin\, Zurich\, 
 Oliver Otto\, Dresden\,  Franziska Lautenschläger\, Saarbrücken\, Ben Fa
 bry\, Erlangen\, Jonathan M. Cooper\, Glasgow\nInstitute of Speaker: \nTop
 ics:\nBiologie\, Medizin\n Location:\n  Name: TUD CRTD (CRTD)\n  Street: F
 etscherstraße 105\n  City: 01307 Dresden\n  Phone: +49 (0)351 458 82052\n
   Fax: +49 (0)351 458 82059 \nDescription: Dear Colleagues\, It's our plea
 sure to announce the EBSA Satellite Meeting on  Cell Mechanics - From Meth
 ods to Applications \, taking place on July 18\, 2015 from 12:00 - 16:00 a
 t the Center for Regenerative Therapies in Dresden. It will be organized a
 s a satellite symposium to the 10th European Biophysics Congress\, which w
 ill be held subsequently on July 18-22\, 2015 at the International Congres
 s Center Dresden. We have invited excellent international scientists in th
 e field who will present cell mechanical methods and their applications:Ed
 win Chilvers\, CambridgeCedric Cattin\, ZurichOliver Otto\, DresdenFranzis
 ka Lautenschläger\, SaarbrückenBen Fabry\, ErlangenJonathan M. Cooper\, 
 GlasgowParticipation is free of charge. We are looking forward to welcomin
 g you in Dresden!  Professor Jochen Guck (TU Dresden) Professor Daniel J. 
 Müller (ETH Zurich)
DTSTAMP:20260425T025320Z
CREATED:20150611T074633Z
LAST-MODIFIED:20150718T075118Z
END:VEVENT
END:VCALENDAR