BEGIN:VCALENDAR
VERSION:2.0
PRODID:www.dresden-science-calendar.de
METHOD:PUBLISH
CALSCALE:GREGORIAN
X-MICROSOFT-CALSCALE:GREGORIAN
X-WR-TIMEZONE:Europe/Berlin
BEGIN:VTIMEZONE
TZID:Europe/Berlin
X-LIC-LOCATION:Europe/Berlin
BEGIN:DAYLIGHT
TZNAME:CEST
TZOFFSETFROM:+0100
TZOFFSETTO:+0200
DTSTART:19810329T030000
RRULE:FREQ=YEARLY;INTERVAL=1;BYMONTH=3;BYDAY=-1SU
END:DAYLIGHT
BEGIN:STANDARD
TZNAME:CET
TZOFFSETFROM:+0200
TZOFFSETTO:+0100
DTSTART:19961027T030000
RRULE:FREQ=YEARLY;INTERVAL=1;BYMONTH=10;BYDAY=-1SU
END:STANDARD
END:VTIMEZONE
BEGIN:VEVENT
UID:DSC-6035
DTSTART;TZID=Europe/Berlin:20140206T164000
SEQUENCE:1391611177
TRANSP:OPAQUE
DTEND;TZID=Europe/Berlin:20140206T174000
URL:https://www.dresden-science-calendar.de/calendar/en/detail/6035
LOCATION:Institut für Kern- und Teilchenphysik\, TU Dresden\, Zellescher W
 eg 1901069 Dresden
SUMMARY:Bach: (g-2)_mu in the MSSM for infinite tan(beta)
CLASS:PUBLIC
DESCRIPTION:Speaker: M. Bach\nInstitute of Speaker: TU Dresden\nTopics:\nPh
 ysik\n Location:\n  Name: Institut für Kern- und Teilchenphysik\, TU Dres
 den (E 19)\n  Street: Zellescher Weg 19\n  City: 01069 Dresden\n  Phone: +
 49 351 463 37659\n  Fax: +49 351 463 33114\nDescription: The anomalous mag
 netic moment of the muon has been measured with a very high precision. How
 ever\, there exists a discrepancy between the experimental result and the 
 value predicted by the Standard Model of particle physics. This deviation 
 is considered as an evidence for physics beyond the Standard Model and can
  be explained by supersymmetric extensions under certain constraints.    M
 y diploma thesis presents the calculation of additional contributions to t
 he muon anomalous magnetic moment\, which are generated in the Minimal Sup
 ersymmetric Standard Model for  tan beta= infinity at one-loop level. Furt
 hermore\, the parameter regions in which the examined scenario is capable 
 of explaining the difference between measurement and Standard Model predic
 tion are  identified.
DTSTAMP:20260422T214640Z
CREATED:20131010T160837Z
LAST-MODIFIED:20140205T143937Z
END:VEVENT
END:VCALENDAR