BEGIN:VCALENDAR
VERSION:2.0
PRODID:www.dresden-science-calendar.de
METHOD:PUBLISH
CALSCALE:GREGORIAN
X-MICROSOFT-CALSCALE:GREGORIAN
X-WR-TIMEZONE:Europe/Berlin
BEGIN:VTIMEZONE
TZID:Europe/Berlin
X-LIC-LOCATION:Europe/Berlin
BEGIN:DAYLIGHT
TZNAME:CEST
TZOFFSETFROM:+0100
TZOFFSETTO:+0200
DTSTART:19810329T030000
RRULE:FREQ=YEARLY;INTERVAL=1;BYMONTH=3;BYDAY=-1SU
END:DAYLIGHT
BEGIN:STANDARD
TZNAME:CET
TZOFFSETFROM:+0200
TZOFFSETTO:+0100
DTSTART:19961027T030000
RRULE:FREQ=YEARLY;INTERVAL=1;BYMONTH=10;BYDAY=-1SU
END:STANDARD
END:VTIMEZONE
BEGIN:VEVENT
UID:DSC-5057
DTSTART;TZID=Europe/Berlin:20130627T140000
SEQUENCE:1371133812
TRANSP:OPAQUE
DTEND;TZID=Europe/Berlin:20130627T150000
URL:https://www.dresden-science-calendar.de/calendar/en/detail/5057
LOCATION:TUD Willers-Bau\, Zellescher Weg 12-1401069 Dresden
SUMMARY:Bandle: Variationsformeln und optimale Gebiete
CLASS:PUBLIC
DESCRIPTION:Speaker: Prof. Dr. Catherine Bandle\nInstitute of Speaker: Univ
 ersität Basel\, Mathematisches Institut \nTopics:\nMathematik\n Location:
 \n  Name: TUD Willers-Bau (WIL A 124)\n  Street: Zellescher Weg 12-14\n  C
 ity: 01069 Dresden\n  Phone: \n  Fax: \nDescription: In diesem Vortrag wir
 d gezeigt\, wie sich gewisse Funktionale wie Torsion und Eigenwerte änder
 n\, wenn das Gebiet leicht gestört wird. Die Technik der Gebietsvariation
  ist sehr alt und geht auf Hadamard (1908) zurück\, der sie für die Gree
 nsche Funktion entwickelt hat.   Die erste Variation liefert eine notwendi
 ge Bedingung für optimale Gebiete mit vorgeschriebenem Volumen. Die zweit
 e Variation lässt sich durch Oberflächenintegrale ausdrücken. In einfac
 hen Fällen kann damit gezeigt werden\, dass die Kugel ein lokales Minimum
  ist.  Die Technik beruht ausschliesslich auf Differentiation und partiell
 er Integration.  
DTSTAMP:20260425T024114Z
CREATED:20130416T142156Z
LAST-MODIFIED:20130613T143012Z
END:VEVENT
END:VCALENDAR