BEGIN:VCALENDAR
VERSION:2.0
PRODID:www.dresden-science-calendar.de
METHOD:PUBLISH
CALSCALE:GREGORIAN
X-MICROSOFT-CALSCALE:GREGORIAN
X-WR-TIMEZONE:Europe/Berlin
BEGIN:VTIMEZONE
TZID:Europe/Berlin
X-LIC-LOCATION:Europe/Berlin
BEGIN:DAYLIGHT
TZNAME:CEST
TZOFFSETFROM:+0100
TZOFFSETTO:+0200
DTSTART:19810329T030000
RRULE:FREQ=YEARLY;INTERVAL=1;BYMONTH=3;BYDAY=-1SU
END:DAYLIGHT
BEGIN:STANDARD
TZNAME:CET
TZOFFSETFROM:+0200
TZOFFSETTO:+0100
DTSTART:19961027T030000
RRULE:FREQ=YEARLY;INTERVAL=1;BYMONTH=10;BYDAY=-1SU
END:STANDARD
END:VTIMEZONE
BEGIN:VEVENT
UID:DSC-4715
DTSTART;TZID=Europe/Berlin:20130214T103000
SEQUENCE:1360827660
TRANSP:OPAQUE
DTEND;TZID=Europe/Berlin:20130214T113000
URL:https://www.dresden-science-calendar.de/calendar/en/detail/4715
LOCATION:IFW\, Helmholtzstraße 2001069 Dresden
SUMMARY:Chirkova: Magnetic phase transformations in FeRh-based alloys
CLASS:PUBLIC
DESCRIPTION:Speaker: Alisa Chirkova\nInstitute of Speaker: Ural Federal Uni
 versity\, Ekaterinburg\nTopics:\nMaterialien\, Physik\n Location:\n  Name:
  IFW (A2E.16\, IFW Dresden)\n  Street: Helmholtzstraße 20\n  City: 01069 
 Dresden\n  Phone: \n  Fax: \nDescription: 
DTSTAMP:20260422T111711Z
CREATED:20130213T073831Z
LAST-MODIFIED:20130214T074100Z
END:VEVENT
END:VCALENDAR