BEGIN:VCALENDAR
VERSION:2.0
PRODID:www.dresden-science-calendar.de
METHOD:PUBLISH
CALSCALE:GREGORIAN
X-MICROSOFT-CALSCALE:GREGORIAN
X-WR-TIMEZONE:Europe/Berlin
BEGIN:VTIMEZONE
TZID:Europe/Berlin
X-LIC-LOCATION:Europe/Berlin
BEGIN:DAYLIGHT
TZNAME:CEST
TZOFFSETFROM:+0100
TZOFFSETTO:+0200
DTSTART:19810329T030000
RRULE:FREQ=YEARLY;INTERVAL=1;BYMONTH=3;BYDAY=-1SU
END:DAYLIGHT
BEGIN:STANDARD
TZNAME:CET
TZOFFSETFROM:+0200
TZOFFSETTO:+0100
DTSTART:19961027T030000
RRULE:FREQ=YEARLY;INTERVAL=1;BYMONTH=10;BYDAY=-1SU
END:STANDARD
END:VTIMEZONE
BEGIN:VEVENT
UID:DSC-4622
DTSTART;TZID=Europe/Berlin:20130130T130000
SEQUENCE:1359532660
TRANSP:OPAQUE
DTEND;TZID=Europe/Berlin:20130130T140000
URL:https://www.dresden-science-calendar.de/calendar/en/detail/4622
LOCATION:IFW\, Helmholtzstraße 2001069 Dresden
SUMMARY:Park: High-field ESR and magnetization study of Ni based complexes
CLASS:PUBLIC
DESCRIPTION:Speaker: Jaena Park\nInstitute of Speaker: IFW Dresden\nTopics:
 \nMaterialien\, Physik\n Location:\n  Name: IFW (D2E.27\, IFW Dresden)\n  
 Street: Helmholtzstraße 20\n  City: 01069 Dresden\n  Phone: \n  Fax: \nDe
 scription: 
DTSTAMP:20260419T232123Z
CREATED:20130124T074514Z
LAST-MODIFIED:20130130T075740Z
END:VEVENT
END:VCALENDAR