BEGIN:VCALENDAR
VERSION:2.0
PRODID:www.dresden-science-calendar.de
METHOD:PUBLISH
CALSCALE:GREGORIAN
X-MICROSOFT-CALSCALE:GREGORIAN
X-WR-TIMEZONE:Europe/Berlin
BEGIN:VTIMEZONE
TZID:Europe/Berlin
X-LIC-LOCATION:Europe/Berlin
BEGIN:DAYLIGHT
TZNAME:CEST
TZOFFSETFROM:+0100
TZOFFSETTO:+0200
DTSTART:19810329T030000
RRULE:FREQ=YEARLY;INTERVAL=1;BYMONTH=3;BYDAY=-1SU
END:DAYLIGHT
BEGIN:STANDARD
TZNAME:CET
TZOFFSETFROM:+0200
TZOFFSETTO:+0100
DTSTART:19961027T030000
RRULE:FREQ=YEARLY;INTERVAL=1;BYMONTH=10;BYDAY=-1SU
END:STANDARD
END:VTIMEZONE
BEGIN:VEVENT
UID:DSC-4545
DTSTART;TZID=Europe/Berlin:20130130T100000
SEQUENCE:1357816808
TRANSP:OPAQUE
DTEND;TZID=Europe/Berlin:20130130T110000
URL:https://www.dresden-science-calendar.de/calendar/en/detail/4545
LOCATION:B CUBE\, Tatzberg 4101307 Dresden
SUMMARY:Keller: Functional DNA origami nanostructures
CLASS:PUBLIC
DESCRIPTION:Speaker: Adrian Keller\nInstitute of Speaker: Institute of Ion 
 Beam Physics and Material Research\, Helmholtz-Zentrum Dresden-Rossendorf\
 nTopics:\nBiologie\n Location:\n  Name: B CUBE (Conference room)\n  Street
 : Tatzberg 41\n  City: 01307 Dresden\n  Phone: +49 351 463 43000\n  Fax: +
 49 351 463 40322\nDescription: 
DTSTAMP:20260420T164626Z
CREATED:20130110T112008Z
LAST-MODIFIED:20130110T112008Z
END:VEVENT
END:VCALENDAR