BEGIN:VCALENDAR
VERSION:2.0
PRODID:www.dresden-science-calendar.de
METHOD:PUBLISH
CALSCALE:GREGORIAN
X-MICROSOFT-CALSCALE:GREGORIAN
X-WR-TIMEZONE:Europe/Berlin
BEGIN:VTIMEZONE
TZID:Europe/Berlin
X-LIC-LOCATION:Europe/Berlin
BEGIN:DAYLIGHT
TZNAME:CEST
TZOFFSETFROM:+0100
TZOFFSETTO:+0200
DTSTART:19810329T030000
RRULE:FREQ=YEARLY;INTERVAL=1;BYMONTH=3;BYDAY=-1SU
END:DAYLIGHT
BEGIN:STANDARD
TZNAME:CET
TZOFFSETFROM:+0200
TZOFFSETTO:+0100
DTSTART:19961027T030000
RRULE:FREQ=YEARLY;INTERVAL=1;BYMONTH=10;BYDAY=-1SU
END:STANDARD
END:VTIMEZONE
BEGIN:VEVENT
UID:DSC-4268
DTSTART;TZID=Europe/Berlin:20130207T160000
SEQUENCE:1360310647
TRANSP:OPAQUE
DTEND;TZID=Europe/Berlin:20130207T170000
URL:https://www.dresden-science-calendar.de/calendar/en/detail/4268
LOCATION:MPI-CBG\, Pfotenhauerstraße 10801307 Dresden
SUMMARY:Foulkes: “Circadian Clock Regulation and Function:Lessons from fi
 sh.”
CLASS:PUBLIC
DESCRIPTION:Speaker: Nicholas Foulkes\nInstitute of Speaker: Universität H
 eidelberg &amp\; Institut fu&amp\;#776\;r Toxikologieund Genetik\, Karlsru
 he Institute of Technol\nTopics:\nBiologie\n Location:\n  Name: MPI-CBG (A
 uditorium)\n  Street: Pfotenhauerstraße 108\n  City: 01307 Dresden\n  Pho
 ne: +49 351 210-0\n  Fax: +49 351 210-2000\nDescription: 
DTSTAMP:20260420T144233Z
CREATED:20121115T074407Z
LAST-MODIFIED:20130208T080407Z
END:VEVENT
END:VCALENDAR