BEGIN:VCALENDAR
VERSION:2.0
PRODID:www.dresden-science-calendar.de
METHOD:PUBLISH
CALSCALE:GREGORIAN
X-MICROSOFT-CALSCALE:GREGORIAN
X-WR-TIMEZONE:Europe/Berlin
BEGIN:VTIMEZONE
TZID:Europe/Berlin
X-LIC-LOCATION:Europe/Berlin
BEGIN:DAYLIGHT
TZNAME:CEST
TZOFFSETFROM:+0100
TZOFFSETTO:+0200
DTSTART:19810329T030000
RRULE:FREQ=YEARLY;INTERVAL=1;BYMONTH=3;BYDAY=-1SU
END:DAYLIGHT
BEGIN:STANDARD
TZNAME:CET
TZOFFSETFROM:+0200
TZOFFSETTO:+0100
DTSTART:19961027T030000
RRULE:FREQ=YEARLY;INTERVAL=1;BYMONTH=10;BYDAY=-1SU
END:STANDARD
END:VTIMEZONE
BEGIN:VEVENT
UID:DSC-4095
DTSTART;TZID=Europe/Berlin:20130131T170000
SEQUENCE:1359619142
TRANSP:OPAQUE
DTEND;TZID=Europe/Berlin:20130131T180000
URL:https://www.dresden-science-calendar.de/calendar/en/detail/4095
LOCATION:TUD\,    
SUMMARY:Senker: Selective Host-Guest Interactions in Porous Materials
CLASS:PUBLIC
DESCRIPTION:Speaker: Prof. Dr. Juergen Senker\nInstitute of Speaker: Anorga
 nische Chemie III\, Universitaet Bayreuth\nTopics:\nChemie\n Location:\n  
 Name: TUD (Hörsaal im Neubau Chemie der TU Dresden\, Bergstr. 66\, Raum 0
 91)\n  Street:   \n  City:  \n  Phone: \n  Fax: \nDescription: Teil der Re
 ihe/part of serie: wird nachgereicht  
DTSTAMP:20260419T184012Z
CREATED:20121025T073534Z
LAST-MODIFIED:20130131T075902Z
END:VEVENT
END:VCALENDAR