BEGIN:VCALENDAR
VERSION:2.0
PRODID:www.dresden-science-calendar.de
METHOD:PUBLISH
CALSCALE:GREGORIAN
X-MICROSOFT-CALSCALE:GREGORIAN
X-WR-TIMEZONE:Europe/Berlin
BEGIN:VTIMEZONE
TZID:Europe/Berlin
X-LIC-LOCATION:Europe/Berlin
BEGIN:DAYLIGHT
TZNAME:CEST
TZOFFSETFROM:+0100
TZOFFSETTO:+0200
DTSTART:19810329T030000
RRULE:FREQ=YEARLY;INTERVAL=1;BYMONTH=3;BYDAY=-1SU
END:DAYLIGHT
BEGIN:STANDARD
TZNAME:CET
TZOFFSETFROM:+0200
TZOFFSETTO:+0100
DTSTART:19961027T030000
RRULE:FREQ=YEARLY;INTERVAL=1;BYMONTH=10;BYDAY=-1SU
END:STANDARD
END:VTIMEZONE
BEGIN:VEVENT
UID:DSC-22698
DTSTART;VALUE=DATE:20260423
SEQUENCE:1771922729
TRANSP:OPAQUE
DTEND;VALUE=DATE:20260501
URL:https://www.dresden-science-calendar.de/calendar/en/detail/22698
LOCATION:SLUB\, Zellescher Weg 1801069 Dresden
SUMMARY:Angekommen? Zwischen Fremdsein und Integration.
CLASS:PUBLIC
DESCRIPTION:Speaker: \nInstitute of Speaker: \nTopics:\n\nTime:\n6:30 PM-8:
 00 PM\n\n Location:\n  Name: SLUB (Klemperer-Saal)\n  Street: Zellescher W
 eg 18\n  City: 01069 Dresden\n  Phone: \n  Fax: \nDescription: I. Ankommen
  – Vom Zufluchtsort zur Heimat  Nach dem Zweiten Weltkrieg strömten üb
 er eine Million Menschen aus den deutschen Ostgebieten nach Sachsen. Gleic
 hzeitig herrschte in der Nachkriegszeit Mangel an allem Nötigen\, der die
  ansässigen und zugereisten Menschen besonders herausforderte. Speziell d
 er ländliche Raum wurde\, auch aufgrund der Bodenreform\, zum Brennpunkt:
  Hier entstanden völlig neue Strukturen\, neue Nachbarschaften und damit 
 auch neue Konflikte. Wie formte diese Begegnung das soziale Gefüge der D
 örfer? Welche Werte und Erfahrungen brachten die Neuankömmlinge mit? Wel
 che Strategien halfen damals\, Brücken zu bauen – und wie lassen sich d
 iese Erkenntnisse auf die Herausforderungen unserer Zeit übertragen? Das 
 wollen wir mit unseren eingeladenen Expert:innen diskutieren    Referent:i
 nnen: Dr. Sönke Friedreich (Wissenschaftlicher Mitarbeiter am Institut f
 ür Sächsische Geschichte und Volkskunde)\, Dr. Jens Baumann (Beauftragte
 r für Vertriebene und Spätaussiedler im Freistaat Sachsen)\, Frank Hirch
 e (Leiter der Bildungsstätte Transferraum Heimat in Knappenrode)  Moderat
 ion: Alexandra Gerlach    Die Veranstaltungsreihe findet in Kooperation mi
 t der Konrad-Adenauer-Stiftung Sachsen statt. Nächster Termin: 30.04.2026
 .
X-MICROSOFT-CDO-ALLDAYEVENT:TRUE
DTSTAMP:20260425T050141Z
CREATED:20260224T084529Z
LAST-MODIFIED:20260224T084529Z
END:VEVENT
END:VCALENDAR