BEGIN:VCALENDAR
VERSION:2.0
PRODID:www.dresden-science-calendar.de
METHOD:PUBLISH
CALSCALE:GREGORIAN
X-MICROSOFT-CALSCALE:GREGORIAN
X-WR-TIMEZONE:Europe/Berlin
BEGIN:VTIMEZONE
TZID:Europe/Berlin
X-LIC-LOCATION:Europe/Berlin
BEGIN:DAYLIGHT
TZNAME:CEST
TZOFFSETFROM:+0100
TZOFFSETTO:+0200
DTSTART:19810329T030000
RRULE:FREQ=YEARLY;INTERVAL=1;BYMONTH=3;BYDAY=-1SU
END:DAYLIGHT
BEGIN:STANDARD
TZNAME:CET
TZOFFSETFROM:+0200
TZOFFSETTO:+0100
DTSTART:19961027T030000
RRULE:FREQ=YEARLY;INTERVAL=1;BYMONTH=10;BYDAY=-1SU
END:STANDARD
END:VTIMEZONE
BEGIN:VEVENT
UID:DSC-21265
DTSTART;TZID=Europe/Berlin:20240916T183000
SEQUENCE:1726464993
TRANSP:OPAQUE
DTEND;TZID=Europe/Berlin:20240916T235900
URL:https://www.dresden-science-calendar.de/calendar/en/detail/21265
LOCATION:TUD\,    
SUMMARY:70 Jahre europäische Teilchenphysik am CERN: Auf der Suche nach de
 r Weltformel
CLASS:PUBLIC
DESCRIPTION:Speaker: \nInstitute of Speaker: \nTopics:\nWillkommen\n Locati
 on:\n  Name: TUD ()\n  Street:   \n  City:  \n  Phone: \n  Fax: \nDescript
 ion: <p>Öffentlicher Abendvortrag</p> <p>Seit 70 Jahren forschen Wissensc
 haftler:innen am europäischen Kernforschungszentrum CERN vor den Toren Ge
 nfs in der Schweiz – sie kommen auch von der TU Dresden. Mit riesigen Be
 schleunigern und Detektoren untersuchen sie die kleinsten Bestandteile uns
 eres Universums. Die beiden Dresdner Physiker Dr. Philip Sommer und Prof. 
 Dr. Arno Straessner erzählen von den Erfolgen in Wissenschaft und Technol
 ogie und der friedlichen Zusammenarbeit mit Forschenden aus der ganzen Wel
 t</p>
DTSTAMP:20260426T015604Z
CREATED:20240827T053711Z
LAST-MODIFIED:20240916T053633Z
END:VEVENT
END:VCALENDAR