BEGIN:VCALENDAR
VERSION:2.0
PRODID:www.dresden-science-calendar.de
METHOD:PUBLISH
CALSCALE:GREGORIAN
X-MICROSOFT-CALSCALE:GREGORIAN
X-WR-TIMEZONE:Europe/Berlin
BEGIN:VTIMEZONE
TZID:Europe/Berlin
X-LIC-LOCATION:Europe/Berlin
BEGIN:DAYLIGHT
TZNAME:CEST
TZOFFSETFROM:+0100
TZOFFSETTO:+0200
DTSTART:19810329T030000
RRULE:FREQ=YEARLY;INTERVAL=1;BYMONTH=3;BYDAY=-1SU
END:DAYLIGHT
BEGIN:STANDARD
TZNAME:CET
TZOFFSETFROM:+0200
TZOFFSETTO:+0100
DTSTART:19961027T030000
RRULE:FREQ=YEARLY;INTERVAL=1;BYMONTH=10;BYDAY=-1SU
END:STANDARD
END:VTIMEZONE
BEGIN:VEVENT
UID:DSC-20577
DTSTART;TZID=Europe/Berlin:20240411T150000
SEQUENCE:1709638657
TRANSP:OPAQUE
DTEND;TZID=Europe/Berlin:20240411T163000
URL:https://www.dresden-science-calendar.de/calendar/en/detail/20577
LOCATION:Senckenberg Naturhistorische Sammlungen Dresden\, Königsbrücker 
 Landstr.  15901109 Dresden
SUMMARY:Posth: 232. Zoologisches Kolloquium
CLASS:PUBLIC
DESCRIPTION:Speaker: Jun. Prof. Cosimo Posth\nInstitute of Speaker: Sencken
 berg Centre for Human Evolution and Palaeoenvironment\, Tübingen\nTopics:
 \n\n Location:\n  Name: Senckenberg Naturhistorische Sammlungen Dresden ( 
    Vortragsraum)\n  Street: Königsbrücker Landstr.  159\n  City: 01109 D
 resden\n  Phone: 0351-7958414326\n  Fax: \nDescription: New methods\, disc
 overies and opportunities in Paleogenetic research
DTSTAMP:20260421T044036Z
CREATED:20240305T113659Z
LAST-MODIFIED:20240305T113737Z
END:VEVENT
END:VCALENDAR