BEGIN:VCALENDAR
VERSION:2.0
PRODID:www.dresden-science-calendar.de
METHOD:PUBLISH
CALSCALE:GREGORIAN
X-MICROSOFT-CALSCALE:GREGORIAN
X-WR-TIMEZONE:Europe/Berlin
BEGIN:VTIMEZONE
TZID:Europe/Berlin
X-LIC-LOCATION:Europe/Berlin
BEGIN:DAYLIGHT
TZNAME:CEST
TZOFFSETFROM:+0100
TZOFFSETTO:+0200
DTSTART:19810329T030000
RRULE:FREQ=YEARLY;INTERVAL=1;BYMONTH=3;BYDAY=-1SU
END:DAYLIGHT
BEGIN:STANDARD
TZNAME:CET
TZOFFSETFROM:+0200
TZOFFSETTO:+0100
DTSTART:19961027T030000
RRULE:FREQ=YEARLY;INTERVAL=1;BYMONTH=10;BYDAY=-1SU
END:STANDARD
END:VTIMEZONE
BEGIN:VEVENT
UID:DSC-19405
DTSTART;TZID=Europe/Berlin:20230112T140000
SEQUENCE:1673505559
TRANSP:OPAQUE
DTEND;TZID=Europe/Berlin:20230112T150000
URL:https://www.dresden-science-calendar.de/calendar/en/detail/19405
LOCATION:IFW\, Helmholtzstraße 2001069 Dresden
SUMMARY:Borisenko: Towards topological superconductivity using ARPES
CLASS:PUBLIC
DESCRIPTION:Speaker: Dr. Sergey Borisenko\nInstitute of Speaker: IFW Dresde
 n\nTopics:\n\n Location:\n  Name: IFW (D2E.27\, IFW Dresden)\n  Street: He
 lmholtzstraße 20\n  City: 01069 Dresden\n  Phone: \n  Fax: \nDescription:
  We use angle-resolved photoemission spectroscopy (ARPES) to study the fin
 e details of the fermiology of superconductors and topological materials i
 n an attempt to detect topological superconductivity. I will present a nov
 el ARPES technique that can more effectively study the dynamics of electro
 ns at low energy\, opening up the possibility for long-sought high-through
 put measurements. I will also give an overview of our recent  results on v
 arious candidates and related materials.
DTSTAMP:20260420T131251Z
CREATED:20230110T063816Z
LAST-MODIFIED:20230112T063919Z
END:VEVENT
END:VCALENDAR