BEGIN:VCALENDAR
VERSION:2.0
PRODID:www.dresden-science-calendar.de
METHOD:PUBLISH
CALSCALE:GREGORIAN
X-MICROSOFT-CALSCALE:GREGORIAN
X-WR-TIMEZONE:Europe/Berlin
BEGIN:VTIMEZONE
TZID:Europe/Berlin
X-LIC-LOCATION:Europe/Berlin
BEGIN:DAYLIGHT
TZNAME:CEST
TZOFFSETFROM:+0100
TZOFFSETTO:+0200
DTSTART:19810329T030000
RRULE:FREQ=YEARLY;INTERVAL=1;BYMONTH=3;BYDAY=-1SU
END:DAYLIGHT
BEGIN:STANDARD
TZNAME:CET
TZOFFSETFROM:+0200
TZOFFSETTO:+0100
DTSTART:19961027T030000
RRULE:FREQ=YEARLY;INTERVAL=1;BYMONTH=10;BYDAY=-1SU
END:STANDARD
END:VTIMEZONE
BEGIN:VEVENT
UID:DSC-1933
DTSTART;TZID=Europe/Berlin:20111214T180000
SEQUENCE:1323848176
TRANSP:OPAQUE
DTEND;TZID=Europe/Berlin:20111214T190000
URL:https://www.dresden-science-calendar.de/calendar/en/detail/1933
LOCATION:Andere\,   
SUMMARY:Clauß: Das Strahltriebflugzeug in der DDR – Anfang und Ende
CLASS:PUBLIC
DESCRIPTION:Speaker: Dr. Jürgen Clauß\nInstitute of Speaker: Dresden\nTop
 ics:\nAusgründung/Transfer\n Location:\n  Name: Andere (Tierschänke\, Ze
 histaer Straße 83\, Pirna)\n  Street:  \n  City:  \n  Phone: \n  Fax: \nD
 escription: Jahresversammlung der Bezirksgruppe Pirna Gäste willkommen! A
 nmeldung beim Obmann Herrn Günther Hahn erforderlich: Tel.-Nr. 0172 / 64 
 89 936  Arbeitskreis: BG Pirna
DTSTAMP:20260422T152525Z
CREATED:20111031T073721Z
LAST-MODIFIED:20111214T073616Z
END:VEVENT
END:VCALENDAR