BEGIN:VCALENDAR
VERSION:2.0
PRODID:www.dresden-science-calendar.de
METHOD:PUBLISH
CALSCALE:GREGORIAN
X-MICROSOFT-CALSCALE:GREGORIAN
X-WR-TIMEZONE:Europe/Berlin
BEGIN:VTIMEZONE
TZID:Europe/Berlin
X-LIC-LOCATION:Europe/Berlin
BEGIN:DAYLIGHT
TZNAME:CEST
TZOFFSETFROM:+0100
TZOFFSETTO:+0200
DTSTART:19810329T030000
RRULE:FREQ=YEARLY;INTERVAL=1;BYMONTH=3;BYDAY=-1SU
END:DAYLIGHT
BEGIN:STANDARD
TZNAME:CET
TZOFFSETFROM:+0200
TZOFFSETTO:+0100
DTSTART:19961027T030000
RRULE:FREQ=YEARLY;INTERVAL=1;BYMONTH=10;BYDAY=-1SU
END:STANDARD
END:VTIMEZONE
BEGIN:VEVENT
UID:DSC-19081
DTSTART;TZID=Europe/Berlin:20220905T150000
SEQUENCE:1662329225
TRANSP:OPAQUE
DTEND;TZID=Europe/Berlin:20220905T160000
URL:https://www.dresden-science-calendar.de/calendar/en/detail/19081
LOCATION:IFW\, Helmholtzstraße 2001069 Dresden
SUMMARY:Barbosa: Metal-metal bonding in Molecular Magnetism
CLASS:PUBLIC
DESCRIPTION:Speaker: Matheus Felipe de Souza Barbosa\nInstitute of Speaker:
  IFW Dresden\nTopics:\n\n Location:\n  Name: IFW (D2 E.32 and online (link
  via iff office)\, IFW Dresden)\n  Street: Helmholtzstraße 20\n  City: 01
 069 Dresden\n  Phone: \n  Fax: \nDescription: 
DTSTAMP:20260425T042344Z
CREATED:20220902T220759Z
LAST-MODIFIED:20220904T220705Z
END:VEVENT
END:VCALENDAR