BEGIN:VCALENDAR
VERSION:2.0
PRODID:www.dresden-science-calendar.de
METHOD:PUBLISH
CALSCALE:GREGORIAN
X-MICROSOFT-CALSCALE:GREGORIAN
X-WR-TIMEZONE:Europe/Berlin
BEGIN:VTIMEZONE
TZID:Europe/Berlin
X-LIC-LOCATION:Europe/Berlin
BEGIN:DAYLIGHT
TZNAME:CEST
TZOFFSETFROM:+0100
TZOFFSETTO:+0200
DTSTART:19810329T030000
RRULE:FREQ=YEARLY;INTERVAL=1;BYMONTH=3;BYDAY=-1SU
END:DAYLIGHT
BEGIN:STANDARD
TZNAME:CET
TZOFFSETFROM:+0200
TZOFFSETTO:+0100
DTSTART:19961027T030000
RRULE:FREQ=YEARLY;INTERVAL=1;BYMONTH=10;BYDAY=-1SU
END:STANDARD
END:VTIMEZONE
BEGIN:VEVENT
UID:DSC-17142
DTSTART;TZID=Europe/Berlin:20200225T113000
SEQUENCE:1582672167
TRANSP:OPAQUE
DTEND;TZID=Europe/Berlin:20200225T123000
URL:https://www.dresden-science-calendar.de/calendar/en/detail/17142
LOCATION:MPI-CBG\, Pfotenhauerstraße 10801307 Dresden
SUMMARY:Bill: Non-coding RNAs organize the epigenome in leukemia – novel 
 tools for precision oncology?
CLASS:PUBLIC
DESCRIPTION:Speaker: Alexander Wurm und Marius Bill\nInstitute of Speaker: 
 /\nTopics:\n\n Location:\n  Name: MPI-CBG (CSBD SR Top Floor)\n  Street: P
 fotenhauerstraße 108\n  City: 01307 Dresden\n  Phone: +49 351 210-0\n  Fa
 x: +49 351 210-2000\nDescription: 
DTSTAMP:20260424T044359Z
CREATED:20200224T230931Z
LAST-MODIFIED:20200225T230927Z
END:VEVENT
END:VCALENDAR