BEGIN:VCALENDAR
VERSION:2.0
PRODID:www.dresden-science-calendar.de
METHOD:PUBLISH
CALSCALE:GREGORIAN
X-MICROSOFT-CALSCALE:GREGORIAN
X-WR-TIMEZONE:Europe/Berlin
BEGIN:VTIMEZONE
TZID:Europe/Berlin
X-LIC-LOCATION:Europe/Berlin
BEGIN:DAYLIGHT
TZNAME:CEST
TZOFFSETFROM:+0100
TZOFFSETTO:+0200
DTSTART:19810329T030000
RRULE:FREQ=YEARLY;INTERVAL=1;BYMONTH=3;BYDAY=-1SU
END:DAYLIGHT
BEGIN:STANDARD
TZNAME:CET
TZOFFSETFROM:+0200
TZOFFSETTO:+0100
DTSTART:19961027T030000
RRULE:FREQ=YEARLY;INTERVAL=1;BYMONTH=10;BYDAY=-1SU
END:STANDARD
END:VTIMEZONE
BEGIN:VEVENT
UID:DSC-16909
DTSTART;TZID=Europe/Berlin:20200109T133000
SEQUENCE:1578647204
TRANSP:OPAQUE
DTEND;TZID=Europe/Berlin:20200109T143000
URL:https://www.dresden-science-calendar.de/calendar/en/detail/16909
LOCATION:TUD Willers-Bau\, Zellescher Weg 12-1401069 Dresden
SUMMARY:Pech: All that homogeneity 
CLASS:PUBLIC
DESCRIPTION:Speaker: Maja Pech\nInstitute of Speaker: U Novi Sad\nTopics:\n
 \n Location:\n  Name: TUD Willers-Bau (WIL B 321)\n  Street: Zellescher We
 g 12-14\n  City: 01069 Dresden\n  Phone: \n  Fax: \nDescription: 
DTSTAMP:20260422T052512Z
CREATED:20200110T090644Z
LAST-MODIFIED:20200110T090644Z
END:VEVENT
END:VCALENDAR