BEGIN:VCALENDAR
VERSION:2.0
PRODID:www.dresden-science-calendar.de
METHOD:PUBLISH
CALSCALE:GREGORIAN
X-MICROSOFT-CALSCALE:GREGORIAN
X-WR-TIMEZONE:Europe/Berlin
BEGIN:VTIMEZONE
TZID:Europe/Berlin
X-LIC-LOCATION:Europe/Berlin
BEGIN:DAYLIGHT
TZNAME:CEST
TZOFFSETFROM:+0100
TZOFFSETTO:+0200
DTSTART:19810329T030000
RRULE:FREQ=YEARLY;INTERVAL=1;BYMONTH=3;BYDAY=-1SU
END:DAYLIGHT
BEGIN:STANDARD
TZNAME:CET
TZOFFSETFROM:+0200
TZOFFSETTO:+0100
DTSTART:19961027T030000
RRULE:FREQ=YEARLY;INTERVAL=1;BYMONTH=10;BYDAY=-1SU
END:STANDARD
END:VTIMEZONE
BEGIN:VEVENT
UID:DSC-15826
DTSTART;TZID=Europe/Berlin:20190508T170000
SEQUENCE:1556808029
TRANSP:OPAQUE
DTEND;TZID=Europe/Berlin:20190508T180000
URL:https://www.dresden-science-calendar.de/calendar/en/detail/15826
LOCATION:TUD Willers-Bau\, Zellescher Weg 12-1401069 Dresden
SUMMARY:Walser: Halbe Würfel 
CLASS:PUBLIC
DESCRIPTION:Speaker: Dr. Hans Walser \nInstitute of Speaker: Universität B
 asel\, Schweiz\nTopics:\nMathematik\n Location:\n  Name: TUD Willers-Bau (
 WIL B 321)\n  Street: Zellescher Weg 12-14\n  City: 01069 Dresden\n  Phone
 : \n  Fax: \nDescription: Ein Würfel kann nicht mit Zirkel und Lineal in 
 einen volumenmäßig halb so großen  Würfel verwandelt werden. Hingegen 
 gibt es eine Vielzahl von einfach zu konstruierenden Figuren\, welche das 
 Würfelvolumen halbieren. Dabei spielen Symmetrieüberlegungen eine wichti
 ge Rolle. Mit diesen Figuren kann der Raum lückenlos und überlappungsfre
 i aufgefüllt werden. Dabei zeigt sich der Unterschied zwischen dem statis
 chen Passen und dem dynamischen Einpassen. Die Überlegungen spielen in de
 n Dimensionen zwei\, drei und vier. Für die Herstellung der Figuren wird 
 unter anderem der Affensattel verwendet. Ebenso kann virtuell mit 3d-Origa
 mi gearbeitet werden. Einige Beispiele werden mit Modellen illustriert. 
DTSTAMP:20260423T223856Z
CREATED:20190326T154550Z
LAST-MODIFIED:20190502T144029Z
END:VEVENT
END:VCALENDAR