BEGIN:VCALENDAR
VERSION:2.0
PRODID:www.dresden-science-calendar.de
METHOD:PUBLISH
CALSCALE:GREGORIAN
X-MICROSOFT-CALSCALE:GREGORIAN
X-WR-TIMEZONE:Europe/Berlin
BEGIN:VTIMEZONE
TZID:Europe/Berlin
X-LIC-LOCATION:Europe/Berlin
BEGIN:DAYLIGHT
TZNAME:CEST
TZOFFSETFROM:+0100
TZOFFSETTO:+0200
DTSTART:19810329T030000
RRULE:FREQ=YEARLY;INTERVAL=1;BYMONTH=3;BYDAY=-1SU
END:DAYLIGHT
BEGIN:STANDARD
TZNAME:CET
TZOFFSETFROM:+0200
TZOFFSETTO:+0100
DTSTART:19961027T030000
RRULE:FREQ=YEARLY;INTERVAL=1;BYMONTH=10;BYDAY=-1SU
END:STANDARD
END:VTIMEZONE
BEGIN:VEVENT
UID:DSC-15170
DTSTART;TZID=Europe/Berlin:20181208T110000
SEQUENCE:1544227769
TRANSP:OPAQUE
DTEND;TZID=Europe/Berlin:20181208T120000
URL:https://www.dresden-science-calendar.de/calendar/en/detail/15170
LOCATION:TUD Andreas-Schubert-Bau\, Zellescher Weg 1901069 Dresden
SUMMARY:Bühringer: Warum werden manche von Alkohol\, Drogen oder Glückssp
 ielen abhängig\, andere nicht?
CLASS:PUBLIC
DESCRIPTION:Speaker: Prof. Dr. Gerhard Bühringer\nInstitute of Speaker: \n
 Topics:\nPsychologie\n Location:\n  Name: TUD Andreas-Schubert-Bau (TU Dre
 sden\, Andreas Schubert Bau\, Zellescher Weg 19\, Hörsaal 28)\n  Street: 
 Zellescher Weg 19\n  City: 01069 Dresden\n  Phone: \n  Fax: \nDescription:
  
DTSTAMP:20260423T123750Z
CREATED:20181016T001044Z
LAST-MODIFIED:20181208T000929Z
END:VEVENT
END:VCALENDAR