BEGIN:VCALENDAR
VERSION:2.0
PRODID:www.dresden-science-calendar.de
METHOD:PUBLISH
CALSCALE:GREGORIAN
X-MICROSOFT-CALSCALE:GREGORIAN
X-WR-TIMEZONE:Europe/Berlin
BEGIN:VTIMEZONE
TZID:Europe/Berlin
X-LIC-LOCATION:Europe/Berlin
BEGIN:DAYLIGHT
TZNAME:CEST
TZOFFSETFROM:+0100
TZOFFSETTO:+0200
DTSTART:19810329T030000
RRULE:FREQ=YEARLY;INTERVAL=1;BYMONTH=3;BYDAY=-1SU
END:DAYLIGHT
BEGIN:STANDARD
TZNAME:CET
TZOFFSETFROM:+0200
TZOFFSETTO:+0100
DTSTART:19961027T030000
RRULE:FREQ=YEARLY;INTERVAL=1;BYMONTH=10;BYDAY=-1SU
END:STANDARD
END:VTIMEZONE
BEGIN:VEVENT
UID:DSC-14987
DTSTART;TZID=Europe/Berlin:20181205T164000
SEQUENCE:1539205862
TRANSP:OPAQUE
DTEND;TZID=Europe/Berlin:20181205T174000
URL:https://www.dresden-science-calendar.de/calendar/en/detail/14987
LOCATION:TUD Hörsaalzentrum\, Bergstraße 6401069 Dresden
SUMMARY:Smith: Self-propulsion in visco-elastic media (\"Microswimmers\" le
 cture series)
CLASS:PUBLIC
DESCRIPTION:Speaker: Dave Smith\nInstitute of Speaker: Birmingham\nTopics:\
 nBiologie\, Mathematik\, Physik\, Chemie\n Location:\n  Name: TUD Hörsaal
 zentrum (HSZ/E03)\n  Street: Bergstraße 64\n  City: 01069 Dresden\n  Phon
 e: +49 351 463-34457\n  Fax: +49 351 463-32883\nDescription: 
DTSTAMP:20260422T154513Z
CREATED:20180911T223254Z
LAST-MODIFIED:20181010T211102Z
END:VEVENT
END:VCALENDAR