BEGIN:VCALENDAR
VERSION:2.0
PRODID:www.dresden-science-calendar.de
METHOD:PUBLISH
CALSCALE:GREGORIAN
X-MICROSOFT-CALSCALE:GREGORIAN
X-WR-TIMEZONE:Europe/Berlin
BEGIN:VTIMEZONE
TZID:Europe/Berlin
X-LIC-LOCATION:Europe/Berlin
BEGIN:DAYLIGHT
TZNAME:CEST
TZOFFSETFROM:+0100
TZOFFSETTO:+0200
DTSTART:19810329T030000
RRULE:FREQ=YEARLY;INTERVAL=1;BYMONTH=3;BYDAY=-1SU
END:DAYLIGHT
BEGIN:STANDARD
TZNAME:CET
TZOFFSETFROM:+0200
TZOFFSETTO:+0100
DTSTART:19961027T030000
RRULE:FREQ=YEARLY;INTERVAL=1;BYMONTH=10;BYDAY=-1SU
END:STANDARD
END:VTIMEZONE
BEGIN:VEVENT
UID:DSC-13308
DTSTART;VALUE=DATE:20171201
SEQUENCE:1502891684
TRANSP:OPAQUE
DTEND;VALUE=DATE:20171203
URL:https://www.dresden-science-calendar.de/calendar/en/detail/13308
LOCATION:ifo Institut\, Niederlassung Dresden\, Einsteinstraße 301069 Dres
 den
SUMMARY:Lessmann: 11th Workshop on Political Economy
CLASS:PUBLIC
DESCRIPTION:Speaker: Prof. Dr. Christian Lessmann\nInstitute of Speaker: Te
 chnische Universität Carolo-Wilhelmina zu Braunschweig\, Institute of Eco
 nomics\nTopics:\nWirtschaft\nTime:\n9:00 AM-3:00 PM\n\n Location:\n  Name:
  ifo Institut\, Niederlassung Dresden (Beratungsraum)\n  Street: Einsteins
 traße 3\n  City: 01069 Dresden\n  Phone: +49(0351)26476-0\n  Fax: +49(035
 1)26476-20\nDescription: CESifo\, the Center of Public Economics at TU Dre
 sden and the ifo Institute for Economic Research Dresden will jointly orga
 nize a workshop on Political Economy. In the tradition of the previous wor
 kshops\, the conference will take place in Saxony´s capital Dresden. The 
 two-day workshop will serve as a forum to present current research results
  in political economy and will give researchers the opportunity to network
 . The keynote lectures will be delivered by Martin Paldam (Aarhus Universi
 ty) and Toke Aidt (University of Cambridge).
X-MICROSOFT-CDO-ALLDAYEVENT:TRUE
DTSTAMP:20260419T203113Z
CREATED:20170816T135444Z
LAST-MODIFIED:20170816T135444Z
END:VEVENT
END:VCALENDAR