BEGIN:VCALENDAR
VERSION:2.0
PRODID:www.dresden-science-calendar.de
METHOD:PUBLISH
CALSCALE:GREGORIAN
X-MICROSOFT-CALSCALE:GREGORIAN
X-WR-TIMEZONE:Europe/Berlin
BEGIN:VTIMEZONE
TZID:Europe/Berlin
X-LIC-LOCATION:Europe/Berlin
BEGIN:DAYLIGHT
TZNAME:CEST
TZOFFSETFROM:+0100
TZOFFSETTO:+0200
DTSTART:19810329T030000
RRULE:FREQ=YEARLY;INTERVAL=1;BYMONTH=3;BYDAY=-1SU
END:DAYLIGHT
BEGIN:STANDARD
TZNAME:CET
TZOFFSETFROM:+0200
TZOFFSETTO:+0100
DTSTART:19961027T030000
RRULE:FREQ=YEARLY;INTERVAL=1;BYMONTH=10;BYDAY=-1SU
END:STANDARD
END:VTIMEZONE
BEGIN:VEVENT
UID:DSC-13114
DTSTART;TZID=Europe/Berlin:20170629T091500
SEQUENCE:1498723209
TRANSP:OPAQUE
DTEND;TZID=Europe/Berlin:20170629T110000
URL:https://www.dresden-science-calendar.de/calendar/en/detail/13114
LOCATION:HZDR\, Bautzner Landstraße 40001328 Dresden
SUMMARY:Kraus: Warm Dense Matter Lecture
CLASS:PUBLIC
DESCRIPTION:Speaker: Dominik Kraus\nInstitute of Speaker: \nTopics:\nPhysik
 \n Location:\n  Name: HZDR (542/237 - Seminarraum FWK)\n  Street: Bautzner
  Landstraße 400\n  City: 01328 Dresden\n  Phone: \n  Fax: \nDescription: 
 special session WDM lecture
DTSTAMP:20260425T000619Z
CREATED:20170627T080510Z
LAST-MODIFIED:20170629T080009Z
END:VEVENT
END:VCALENDAR