BEGIN:VCALENDAR
VERSION:2.0
PRODID:www.dresden-science-calendar.de
METHOD:PUBLISH
CALSCALE:GREGORIAN
X-MICROSOFT-CALSCALE:GREGORIAN
X-WR-TIMEZONE:Europe/Berlin
BEGIN:VTIMEZONE
TZID:Europe/Berlin
X-LIC-LOCATION:Europe/Berlin
BEGIN:DAYLIGHT
TZNAME:CEST
TZOFFSETFROM:+0100
TZOFFSETTO:+0200
DTSTART:19810329T030000
RRULE:FREQ=YEARLY;INTERVAL=1;BYMONTH=3;BYDAY=-1SU
END:DAYLIGHT
BEGIN:STANDARD
TZNAME:CET
TZOFFSETFROM:+0200
TZOFFSETTO:+0100
DTSTART:19961027T030000
RRULE:FREQ=YEARLY;INTERVAL=1;BYMONTH=10;BYDAY=-1SU
END:STANDARD
END:VTIMEZONE
BEGIN:VEVENT
UID:DSC-5846
DTSTART;TZID=Europe/Berlin:20131107T180000
SEQUENCE:1383811481
TRANSP:OPAQUE
DTEND;TZID=Europe/Berlin:20131107T190000
URL:https://www.dresden-science-calendar.de/calendar/de/detail/5846
LOCATION:Andere\,   
SUMMARY:Müller-Steinhagen: Wissensstandort Dresden
CLASS:PUBLIC
DESCRIPTION:Speaker: Prof. Dr. Hans Müller-Steinhagen\nInstitute of Speake
 r: Rektor der TU Dresden\nTopics:\nWillkommen\, Ausgründung/Transfer\n Lo
 cation:\n  Name: Andere (SAS Radisson Blu Gewandhaushotel\, Ringstraße 1\
 , 01067 Dresden)\n  Street:  \n  City:  \n  Phone: \n  Fax: \nDescription:
  31. Dresdner VDI Abend Im Anschluss besteht bei einem Imbiss Gelegenheit 
 zu persönlichen Gesprächen. Eine Anmeldung in der VDI Geschäftsstelle i
 st bis 01. 11.2013 erforderlich.  Arbeitskreis: Vorstand
DTSTAMP:20260423T210116Z
CREATED:20130909T094144Z
LAST-MODIFIED:20131107T080441Z
END:VEVENT
END:VCALENDAR