BEGIN:VCALENDAR
VERSION:2.0
PRODID:www.dresden-science-calendar.de
METHOD:PUBLISH
CALSCALE:GREGORIAN
X-MICROSOFT-CALSCALE:GREGORIAN
X-WR-TIMEZONE:Europe/Berlin
BEGIN:VTIMEZONE
TZID:Europe/Berlin
X-LIC-LOCATION:Europe/Berlin
BEGIN:DAYLIGHT
TZNAME:CEST
TZOFFSETFROM:+0100
TZOFFSETTO:+0200
DTSTART:19810329T030000
RRULE:FREQ=YEARLY;INTERVAL=1;BYMONTH=3;BYDAY=-1SU
END:DAYLIGHT
BEGIN:STANDARD
TZNAME:CET
TZOFFSETFROM:+0200
TZOFFSETTO:+0100
DTSTART:19961027T030000
RRULE:FREQ=YEARLY;INTERVAL=1;BYMONTH=10;BYDAY=-1SU
END:STANDARD
END:VTIMEZONE
BEGIN:VEVENT
UID:DSC-5784
DTSTART;VALUE=DATE:20140728
SEQUENCE:1408693068
TRANSP:OPAQUE
DTEND;VALUE=DATE:20140823
URL:https://www.dresden-science-calendar.de/calendar/de/detail/5784
LOCATION:TUD\,    
SUMMARY:Sommeruniversität 2014
CLASS:PUBLIC
DESCRIPTION:Speaker: \nInstitute of Speaker: \nTopics:\nBiologie\, Chemie\,
  Physik\, Informatik\, Mathematik\, Elektro- u. Informationstechnik\, Masc
 hinenwesen\, Materialien\, Umwelt\, Willkommen\nTime:\n00:00-01:00\n\n Loc
 ation:\n  Name: TUD (Campus der TU Dresden\, Forschungsinstitute und Firme
 n in Dresden)\n  Street:   \n  City:  \n  Phone: \n  Fax: \nDescription: <
 p>Sommeruniversität 2014</p> <p>Unter dem Motto „erst probieren\, dann 
 studieren“ können Studieninteressierte für <strong>M</strong>athematik
 \, <strong>I</strong>nformatik\, <strong>N</strong>aturwissenschaft und <s
 trong>T</strong>echnik (<strong>MINT</strong>) eine Woche UNI-Luft an der 
 TU Dresden „schnuppern“. Die Sommeruniversität bietet Schülerinnen u
 nd Schülern der 10. bis 13. Klasse sowie Abiturientinnen und Abiturienten
  Einblicke in Studium\, Forschung und Beruf dieser Fachrichtungen.</p> <p>
 Um die Universität einmal „hautnah“ zu erleben\, können Labore besic
 htigt\, Forschungseinrichtungen besucht und kleine Projekte bearbeitet wer
 den. Wissenschaftler/innen berichten aus ihren aktuellen Forschungsprojekt
 en. Des Weiteren vermitteln Besuche in Unternehmen Einblicke in Tätigkeit
 sfelder von Ingenieur/innen und Naturwissenschaftler/innen. Außerdem werd
 en Themen rund ums Studium besprochen\, eine Stadtführung angeboten und g
 emeinsam mit dem Studentenrat der TU Dresden ein Grillabend organisiert.</
 p> <p>Folgende Projektwochen stehen zur Auswahl:</p> <ul> <li>28.07. bis 0
 1.08.2014       Schülerinnen\, Abiturientinnen\, etc.</li> <li>04.08
 . bis 08.08.2014       Schüler\, Abiturienten\, etc.</li> <li>11.08.
  bis 15.08.2014       Schülerinnen\, Abiturientinnen\, etc.</li> <li
 >18.08. bis 22.08.2014       Schüler\, Abiturienten\, etc.</li> </ul
 >
X-MICROSOFT-CDO-ALLDAYEVENT:TRUE
DTSTAMP:20260425T012745Z
CREATED:20130909T091551Z
LAST-MODIFIED:20140822T073748Z
END:VEVENT
END:VCALENDAR