BEGIN:VCALENDAR
VERSION:2.0
PRODID:www.dresden-science-calendar.de
METHOD:PUBLISH
CALSCALE:GREGORIAN
X-MICROSOFT-CALSCALE:GREGORIAN
X-WR-TIMEZONE:Europe/Berlin
BEGIN:VTIMEZONE
TZID:Europe/Berlin
X-LIC-LOCATION:Europe/Berlin
BEGIN:DAYLIGHT
TZNAME:CEST
TZOFFSETFROM:+0100
TZOFFSETTO:+0200
DTSTART:19810329T030000
RRULE:FREQ=YEARLY;INTERVAL=1;BYMONTH=3;BYDAY=-1SU
END:DAYLIGHT
BEGIN:STANDARD
TZNAME:CET
TZOFFSETFROM:+0200
TZOFFSETTO:+0100
DTSTART:19961027T030000
RRULE:FREQ=YEARLY;INTERVAL=1;BYMONTH=10;BYDAY=-1SU
END:STANDARD
END:VTIMEZONE
BEGIN:VEVENT
UID:DSC-22765
DTSTART;TZID=Europe/Berlin:20260421T101500
SEQUENCE:1776749941
TRANSP:OPAQUE
DTEND;TZID=Europe/Berlin:20260421T111500
URL:https://www.dresden-science-calendar.de/calendar/de/detail/22765
LOCATION:IPF\, Hohe Straße 601069 Dresden
SUMMARY:Barner-Kowollik: Wavelength-resolved photochemical reactivity dicta
 ted by microenvironments
CLASS:PUBLIC
DESCRIPTION:Speaker: Prof. Dr. Christopher Barner-Kowollik\nInstitute of Sp
 eaker: Karlsruher Institut fÃ¼r Technologie (KIT)\nTopics:\nPhysik\, Che
 mie\, Materialien\n Location:\n  Name: IPF (Conference hall)\n  Street: Ho
 he Straße 6\n  City: 01069 Dresden\n  Phone: \n  Fax: \nDescription: 
DTSTAMP:20260424T120902Z
CREATED:20260318T063926Z
LAST-MODIFIED:20260421T053901Z
END:VEVENT
END:VCALENDAR