BEGIN:VCALENDAR
VERSION:2.0
PRODID:www.dresden-science-calendar.de
METHOD:PUBLISH
CALSCALE:GREGORIAN
X-MICROSOFT-CALSCALE:GREGORIAN
X-WR-TIMEZONE:Europe/Berlin
BEGIN:VTIMEZONE
TZID:Europe/Berlin
X-LIC-LOCATION:Europe/Berlin
BEGIN:DAYLIGHT
TZNAME:CEST
TZOFFSETFROM:+0100
TZOFFSETTO:+0200
DTSTART:19810329T030000
RRULE:FREQ=YEARLY;INTERVAL=1;BYMONTH=3;BYDAY=-1SU
END:DAYLIGHT
BEGIN:STANDARD
TZNAME:CET
TZOFFSETFROM:+0200
TZOFFSETTO:+0100
DTSTART:19961027T030000
RRULE:FREQ=YEARLY;INTERVAL=1;BYMONTH=10;BYDAY=-1SU
END:STANDARD
END:VTIMEZONE
BEGIN:VEVENT
UID:DSC-22630
DTSTART;TZID=Europe/Berlin:20260310T140000
SEQUENCE:1773124677
TRANSP:OPAQUE
DTEND;TZID=Europe/Berlin:20260310T150000
URL:https://www.dresden-science-calendar.de/calendar/de/detail/22630
LOCATION:IFW\, Helmholtzstraße 2001069 Dresden
SUMMARY:Valentí: Rethinking magnetism: a perspective
CLASS:PUBLIC
DESCRIPTION:Speaker: Prof. Dr. Roser Valentí\nInstitute of Speaker: Goethe
  Univ. Frankfurt\nTopics:\n\n Location:\n  Name: IFW (A1E.10\, Hörsaal\, 
 IFW Dresden)\n  Street: Helmholtzstraße 20\n  City: 01069 Dresden\n  Phon
 e: \n  Fax: \nDescription: 
DTSTAMP:20260424T004307Z
CREATED:20260129T063951Z
LAST-MODIFIED:20260310T063757Z
END:VEVENT
END:VCALENDAR