BEGIN:VCALENDAR
VERSION:2.0
PRODID:www.dresden-science-calendar.de
METHOD:PUBLISH
CALSCALE:GREGORIAN
X-MICROSOFT-CALSCALE:GREGORIAN
X-WR-TIMEZONE:Europe/Berlin
BEGIN:VTIMEZONE
TZID:Europe/Berlin
X-LIC-LOCATION:Europe/Berlin
BEGIN:DAYLIGHT
TZNAME:CEST
TZOFFSETFROM:+0100
TZOFFSETTO:+0200
DTSTART:19810329T030000
RRULE:FREQ=YEARLY;INTERVAL=1;BYMONTH=3;BYDAY=-1SU
END:DAYLIGHT
BEGIN:STANDARD
TZNAME:CET
TZOFFSETFROM:+0200
TZOFFSETTO:+0100
DTSTART:19961027T030000
RRULE:FREQ=YEARLY;INTERVAL=1;BYMONTH=10;BYDAY=-1SU
END:STANDARD
END:VTIMEZONE
BEGIN:VEVENT
UID:DSC-22391
DTSTART;TZID=Europe/Berlin:20251126T160000
SEQUENCE:1760604147
TRANSP:OPAQUE
DTEND;TZID=Europe/Berlin:20251126T180000
URL:https://www.dresden-science-calendar.de/calendar/de/detail/22391
LOCATION:SLUB\, Zellescher Weg 1801069 Dresden
SUMMARY:Open Sante? Open Source Health Care - is it possible and how can it
  foster inclusion?
CLASS:PUBLIC
DESCRIPTION:Speaker: \nInstitute of Speaker: \nTopics:\nMaterialien\n Locat
 ion:\n  Name: SLUB (Makerspace M1)\n  Street: Zellescher Weg 18\n  City: 0
 1069 Dresden\n  Phone: \n  Fax: \nDescription: Open Source MRT? DIY made O
 rthopaedic devices? An e-bike-like wheel chair kit for tuning wheel chairs
 ? An open Source braille machine?    There is a new topic in the FabLab an
 d Maker Community and the question is: What is possible? What are the bene
 fits? How can I get one? What about quality and why might it be a solution
  to whom? For example a BrailleRap is an open hardware machine developed i
 n France but also built in Senegal or Bali to improve life for everybody a
 nd to provide local manufactured tools.    Maik will give you a short inpu
 t about the Global FabCare Community and his investigations in France in A
 pril this year. Then Anne from UKD will join the discussion from a medical
  point of view. We welcome all interested people who would like to know mo
 re about open source medical devices or helpers for inclusion\, and anyone
  to share their experiences\, needs and stories.  
DTSTAMP:20260425T005616Z
CREATED:20251016T084056Z
LAST-MODIFIED:20251016T084227Z
END:VEVENT
END:VCALENDAR