BEGIN:VCALENDAR
VERSION:2.0
PRODID:www.dresden-science-calendar.de
METHOD:PUBLISH
CALSCALE:GREGORIAN
X-MICROSOFT-CALSCALE:GREGORIAN
X-WR-TIMEZONE:Europe/Berlin
BEGIN:VTIMEZONE
TZID:Europe/Berlin
X-LIC-LOCATION:Europe/Berlin
BEGIN:DAYLIGHT
TZNAME:CEST
TZOFFSETFROM:+0100
TZOFFSETTO:+0200
DTSTART:19810329T030000
RRULE:FREQ=YEARLY;INTERVAL=1;BYMONTH=3;BYDAY=-1SU
END:DAYLIGHT
BEGIN:STANDARD
TZNAME:CET
TZOFFSETFROM:+0200
TZOFFSETTO:+0100
DTSTART:19961027T030000
RRULE:FREQ=YEARLY;INTERVAL=1;BYMONTH=10;BYDAY=-1SU
END:STANDARD
END:VTIMEZONE
BEGIN:VEVENT
UID:DSC-22256
DTSTART;TZID=Europe/Berlin:20251009T150000
SEQUENCE:1759988154
TRANSP:OPAQUE
DTEND;TZID=Europe/Berlin:20251009T163000
URL:https://www.dresden-science-calendar.de/calendar/de/detail/22256
LOCATION:TUD Andreas-Pfitzmann-Bau\, Nöthnitzer Straße 4601069 Dresden
SUMMARY:Gallagher: Personalised treatment schedules for metastatic prostate
  cancer — A set of novel mathematical biomarkers
CLASS:PUBLIC
DESCRIPTION:Speaker: Kit Gallagher\nInstitute of Speaker: Mathematical Inst
 itute\, University of Oxford\nTopics:\nBiologie\, Informatik\, Mathematik\
 , Medizin\, Willkommen\n Location:\n  Name: TUD Andreas-Pfitzmann-Bau (APB
 -1096 / https://navigator.tu-dresden.de/etplan/apb/01)\n  Street: Nöthnit
 zer Straße 46\n  City: 01069 Dresden\n  Phone: \n  Fax: \nDescription: <p
 >Dynamic approaches to drug scheduling\, such as adaptive therapy\, enable
  individual-level personalisation of the dosing schedule to delay patient 
 relapse. Promising clinical results in prostate cancer indicate the potent
 ial of these protocols\, but demonstrate broad heterogeneity in patient re
 sponse. This naturally leads to the question: why does this heterogeneity 
 occur\, and is a ‘one-size-fits-all' protocol best for all patients?</p>
  <p>Using deep reinforcement learning\, we obtain personalised and clinica
 lly feasible treatment protocols based on individual patient dynamics. We 
 can subsequently rationalise these findings through a mathematical tumour 
 model\, and propose new mathematical biomarkers that can identify the best
  responders from a clinical dataset after only the first treatment cycle. 
 Overall\, I will highlight the importance of personalised treatment schedu
 les that explicitly account for patient heterogeneity\, and the power of m
 athematical models to capture\, analyse and facilitate this personalisatio
 n.</p> <p>Kit Gallagher completed his PhD at the University of Oxford unde
 r the supervision of Prof. Philip Maini\, using population modelling\, sta
 tistical inference\, and deep learning to improve treatment scheduling and
  personalisation for metastatic prostate cancer. Throughout this\, he has 
 worked with Prof. Alexander Anderson at the Moffitt Cancer Center (Tampa\,
  Florida)\, integrating clinical data into mathematical modelling and info
 rming experimental &amp\; clinical trial design. Currently\, he is startin
 g a postdoctoral fellowship in Prof. Ignacio Vazquez-Garcia’s lab at Mas
 s General Research Institute and Harvard Medical School\, applying time se
 ries modelling to longitudinal genomic datasets.</p> <p><strong>ONLINE BBB
 </strong>: Link ZIH-Colloquia (https://bbb.tu-dresden.de/b/har-oa6-col-lmy
 )</p>
DTSTAMP:20260425T224646Z
CREATED:20250910T053550Z
LAST-MODIFIED:20251009T053554Z
END:VEVENT
END:VCALENDAR