BEGIN:VCALENDAR
VERSION:2.0
PRODID:www.dresden-science-calendar.de
METHOD:PUBLISH
CALSCALE:GREGORIAN
X-MICROSOFT-CALSCALE:GREGORIAN
X-WR-TIMEZONE:Europe/Berlin
BEGIN:VTIMEZONE
TZID:Europe/Berlin
X-LIC-LOCATION:Europe/Berlin
BEGIN:DAYLIGHT
TZNAME:CEST
TZOFFSETFROM:+0100
TZOFFSETTO:+0200
DTSTART:19810329T030000
RRULE:FREQ=YEARLY;INTERVAL=1;BYMONTH=3;BYDAY=-1SU
END:DAYLIGHT
BEGIN:STANDARD
TZNAME:CET
TZOFFSETFROM:+0200
TZOFFSETTO:+0100
DTSTART:19961027T030000
RRULE:FREQ=YEARLY;INTERVAL=1;BYMONTH=10;BYDAY=-1SU
END:STANDARD
END:VTIMEZONE
BEGIN:VEVENT
UID:DSC-14714
DTSTART;TZID=Europe/Berlin:20180718T153000
SEQUENCE:1531872315
TRANSP:OPAQUE
DTEND;TZID=Europe/Berlin:20180718T163000
URL:https://www.dresden-science-calendar.de/calendar/de/detail/14714
LOCATION:IFW\, Helmholtzstraße 2001069 Dresden
SUMMARY:Ma: Topological photonic
CLASS:PUBLIC
DESCRIPTION:Speaker: Dr. Libo Ma\nInstitute of Speaker: IFW Dresden\, IIN\n
 Topics:\nMaterialien\, Physik\n Location:\n  Name: IFW (D2E.27\, IFW Dresd
 en)\n  Street: Helmholtzstraße 20\n  City: 01069 Dresden\n  Phone: \n  Fa
 x: \nDescription: 
DTSTAMP:20260421T060012Z
CREATED:20180628T000817Z
LAST-MODIFIED:20180718T000515Z
END:VEVENT
END:VCALENDAR