BEGIN:VCALENDAR
VERSION:2.0
PRODID:www.dresden-science-calendar.de
METHOD:PUBLISH
CALSCALE:GREGORIAN
X-MICROSOFT-CALSCALE:GREGORIAN
X-WR-TIMEZONE:Europe/Berlin
BEGIN:VTIMEZONE
TZID:Europe/Berlin
X-LIC-LOCATION:Europe/Berlin
BEGIN:DAYLIGHT
TZNAME:CEST
TZOFFSETFROM:+0100
TZOFFSETTO:+0200
DTSTART:19810329T030000
RRULE:FREQ=YEARLY;INTERVAL=1;BYMONTH=3;BYDAY=-1SU
END:DAYLIGHT
BEGIN:STANDARD
TZNAME:CET
TZOFFSETFROM:+0200
TZOFFSETTO:+0100
DTSTART:19961027T030000
RRULE:FREQ=YEARLY;INTERVAL=1;BYMONTH=10;BYDAY=-1SU
END:STANDARD
END:VTIMEZONE
BEGIN:VEVENT
UID:DSC-14679
DTSTART;TZID=Europe/Berlin:20180626T123000
SEQUENCE:1529971575
TRANSP:OPAQUE
DTEND;TZID=Europe/Berlin:20180626T150000
URL:https://www.dresden-science-calendar.de/calendar/de/detail/14679
LOCATION:HZDR\, Bautzner Landstraße 40001328 Dresden
SUMMARY:Kühn: Institutsseminar IFR
CLASS:PUBLIC
DESCRIPTION:Speaker: Prof. Michael Kühn\nInstitute of Speaker: \nTopics:\n
 Physik\n Location:\n  Name: HZDR (801/P142 - Seminarraum FWO)\n  Street: B
 autzner Landstraße 400\n  City: 01328 Dresden\n  Phone: \n  Fax: \nDescri
 ption: Seminar Prof. Kühn - GFZ Potsdam
DTSTAMP:20260421T110622Z
CREATED:20180622T000755Z
LAST-MODIFIED:20180626T000615Z
END:VEVENT
END:VCALENDAR