BEGIN:VCALENDAR
VERSION:2.0
PRODID:www.dresden-science-calendar.de
METHOD:PUBLISH
CALSCALE:GREGORIAN
X-MICROSOFT-CALSCALE:GREGORIAN
X-WR-TIMEZONE:Europe/Berlin
BEGIN:VTIMEZONE
TZID:Europe/Berlin
X-LIC-LOCATION:Europe/Berlin
BEGIN:DAYLIGHT
TZNAME:CEST
TZOFFSETFROM:+0100
TZOFFSETTO:+0200
DTSTART:19810329T030000
RRULE:FREQ=YEARLY;INTERVAL=1;BYMONTH=3;BYDAY=-1SU
END:DAYLIGHT
BEGIN:STANDARD
TZNAME:CET
TZOFFSETFROM:+0200
TZOFFSETTO:+0100
DTSTART:19961027T030000
RRULE:FREQ=YEARLY;INTERVAL=1;BYMONTH=10;BYDAY=-1SU
END:STANDARD
END:VTIMEZONE
BEGIN:VEVENT
UID:DSC-14672
DTSTART;TZID=Europe/Berlin:20180625T110000
SEQUENCE:1529885155
TRANSP:OPAQUE
DTEND;TZID=Europe/Berlin:20180625T120000
URL:https://www.dresden-science-calendar.de/calendar/de/detail/14672
LOCATION:IFW\, Helmholtzstraße 2001069 Dresden
SUMMARY:Morr: Quantum Design of Topological Majorana States
CLASS:PUBLIC
DESCRIPTION:Speaker: Prof. Dirk Morr\nInstitute of Speaker: University of I
 llinois at Chicago\nTopics:\nMaterialien\, Physik\n Location:\n  Name: IFW
  (D2E.27\, IFW Dresden)\n  Street: Helmholtzstraße 20\n  City: 01069 Dres
 den\n  Phone: \n  Fax: \nDescription: 
DTSTAMP:20260421T105824Z
CREATED:20180621T000552Z
LAST-MODIFIED:20180625T000555Z
END:VEVENT
END:VCALENDAR