BEGIN:VCALENDAR
VERSION:2.0
PRODID:www.dresden-science-calendar.de
METHOD:PUBLISH
CALSCALE:GREGORIAN
X-MICROSOFT-CALSCALE:GREGORIAN
X-WR-TIMEZONE:Europe/Berlin
BEGIN:VTIMEZONE
TZID:Europe/Berlin
X-LIC-LOCATION:Europe/Berlin
BEGIN:DAYLIGHT
TZNAME:CEST
TZOFFSETFROM:+0100
TZOFFSETTO:+0200
DTSTART:19810329T030000
RRULE:FREQ=YEARLY;INTERVAL=1;BYMONTH=3;BYDAY=-1SU
END:DAYLIGHT
BEGIN:STANDARD
TZNAME:CET
TZOFFSETFROM:+0200
TZOFFSETTO:+0100
DTSTART:19961027T030000
RRULE:FREQ=YEARLY;INTERVAL=1;BYMONTH=10;BYDAY=-1SU
END:STANDARD
END:VTIMEZONE
BEGIN:VEVENT
UID:DSC-14661
DTSTART;TZID=Europe/Berlin:20180706T143000
SEQUENCE:1530921948
TRANSP:OPAQUE
DTEND;TZID=Europe/Berlin:20180706T153000
URL:https://www.dresden-science-calendar.de/calendar/de/detail/14661
LOCATION:MPI-CBG\, Pfotenhauerstraße 10801307 Dresden
SUMMARY:Navarrete: Multi-scale analysis of liver tissue organization
CLASS:PUBLIC
DESCRIPTION:Speaker: Hernan Morales Navarrete\nInstitute of Speaker: ELBE P
 ostdoc Marino Zerial\, MPI-CBG\, Dresden\, Germany\nTopics:\nBiologie\n Lo
 cation:\n  Name: MPI-CBG (MPI-CBG Auditorium)\n  Street: Pfotenhauerstraß
 e 108\n  City: 01307 Dresden\n  Phone: +49 351 210-0\n  Fax: +49 351 210-2
 000\nDescription: 
DTSTAMP:20260426T044821Z
CREATED:20180616T000752Z
LAST-MODIFIED:20180707T000548Z
END:VEVENT
END:VCALENDAR