BEGIN:VCALENDAR
VERSION:2.0
PRODID:www.dresden-science-calendar.de
METHOD:PUBLISH
CALSCALE:GREGORIAN
X-MICROSOFT-CALSCALE:GREGORIAN
X-WR-TIMEZONE:Europe/Berlin
BEGIN:VTIMEZONE
TZID:Europe/Berlin
X-LIC-LOCATION:Europe/Berlin
BEGIN:DAYLIGHT
TZNAME:CEST
TZOFFSETFROM:+0100
TZOFFSETTO:+0200
DTSTART:19810329T030000
RRULE:FREQ=YEARLY;INTERVAL=1;BYMONTH=3;BYDAY=-1SU
END:DAYLIGHT
BEGIN:STANDARD
TZNAME:CET
TZOFFSETFROM:+0200
TZOFFSETTO:+0100
DTSTART:19961027T030000
RRULE:FREQ=YEARLY;INTERVAL=1;BYMONTH=10;BYDAY=-1SU
END:STANDARD
END:VTIMEZONE
BEGIN:VEVENT
UID:DSC-13674
DTSTART;TZID=Europe/Berlin:20180125T170000
SEQUENCE:1524642373
TRANSP:OPAQUE
DTEND;TZID=Europe/Berlin:20180125T180000
URL:https://www.dresden-science-calendar.de/calendar/de/detail/13674
LOCATION:TUD Chemie - Neubau\, Bergstraße 6601069 Dresden
SUMMARY:Schlüter: Thema: 2D Polymers or how to make molecular fisherman
 s nets
CLASS:PUBLIC
DESCRIPTION:Speaker: Prof. Dr. Dieter Schlüter\nInstitute of Speaker: \nTo
 pics:\nChemie\n Location:\n  Name: TUD Chemie - Neubau (Hörsaal 2 (CHE/09
 1))\n  Street: Bergstraße 66\n  City: 01069 Dresden\n  Phone: \n  Fax: \n
 Description: 
DTSTAMP:20260422T115919Z
CREATED:20171027T080400Z
LAST-MODIFIED:20180425T074613Z
END:VEVENT
END:VCALENDAR